Workbook

Sheet Cover
B2: LEED v5 for Building Design and Construction: New Construction Scorecard
C3: BD+C NC credit category view | F3: Provides an overview of points per credit category
C4: BD+C NC impact area view | F4: Provides a directional indicator of the credits per impact area.
C5: Analytics | F5: Provides basic analytics derived from points, credit, and prerequisite data entered.
C7: How to use
C8: 1. Navigate to the "BD+C NC Credit Category View" tab
C9: 2. For each credit, enter the number of expected points in Columns A-C, titled "Yes", "Maybe" and "No".
D10: "Yes": Points will count towards your totals.
D11: "Maybe": Points will count towards your totals.
D12: "No": Points will not count towards your totals.
C13: 3. For each prerequisite, utilize the checkbox in Columns A-C, titled "Yes", "Maybe" and "No". Please note prerequisites do not count toward point totals.
C14: 4. For Project Priorities, utilize column H to enter up to 9 credit names and anticipated points per credit.
C15: 5. "BD+C NC impact area view " tab will automatically update with all the decisions you made on the "BD+C NC Credit Category View" tab; no additional input is needed.
C16: * Feel free to customize this tool in any way that best suits your needs. Whether you need to add new columns or simply rearrange the layout to better fit your workflow, this tool is designed with flexibility in mind.

Sheet BD+C credit category view
L1: Total
A2: LEED v5 for Building Design and Construction: New Construction | L2: Yes | M2: =A83 -> 0 | N2: points | P2: Key:
A3: Project scorecard | L3: Maybe | M3: =B83 -> 0 | N3: points | P3: Prerequisite
L4: No | M4: =C83 -> 0 | N4: points | P4: Credit
I6: Total Possible Points | J6: Total Anticipated Points | L6: Total Anticipated Points | M6: =J83 -> 0 | N6: points
L7: Total Possible Points | M7: =I83 -> 110 | N7: points
A8: Yes | B8: Maybe | C8: No | L8: Responsible Party | M8: Notes
E9: Integrative Process, Planning and Assessments (IP) | I9: =SUM(I13) -> 1 | J9: =SUM(J13) -> 0
A10: FALSE | B10: FALSE | C10: FALSE | E10: IPp1 | F10: Climate Resilience Assessment | I10: Required
A11: FALSE | B11: FALSE | C11: FALSE | E11: IPp2 | F11: Human Impact Assessment | I11: Required | J11: Required
A12: FALSE | B12: FALSE | C12: FALSE | E12: IPp3 | F12: Carbon Assessment | I12: Required | J12: Required
A13: 0 | B13: 0 | C13: 0 | E13: IPc1 | F13: Integrative Design Process | I13: 1 | J13: =SUM(A13:B13) -> 0 | K13: =IF(J13>I13,"⚠","")
E15: Location and Transportation (LT) | I15: =SUM(I16:I20) -> 15 | J15: =SUM(J16:J20) -> 0
A16: 0 | B16: 0 | C16: 0 | E16: LTc1 | F16: Sensitive Land Protection | I16: 1 | J16: =SUM(A16:B16) -> 0 | K16: =IF(J16>I16,"⚠","")
A17: 0 | B17: 0 | C17: 0 | E17: LTc2 | F17: Equitable Development | I17: 2 | J17: =SUM(A17:B17) -> 0 | K17: =IF(J17>I17,"⚠","")
A18: 0 | B18: 0 | C18: 0 | E18: LTc3 | F18: Compact and Connected Development | I18: 6 | J18: =SUM(A18:B18) -> 0 | K18: =IF(J18>I18,"⚠","")
A19: 0 | B19: 0 | C19: 0 | E19: LTc4 | F19: Transportation Demand Management | I19: 4 | J19: =SUM(A19:B19) -> 0 | K19: =IF(J19>I19,"⚠","")
A20: 0 | B20: 0 | C20: 0 | E20: LTc5 | F20: Electric Vehicles | I20: 2 | J20: =SUM(A20:B20) -> 0 | K20: =IF(J20>I20,"⚠","")
E22: Sustainable Sites (SS) | I22: =SUM(I24:I29) -> 11 | J22: =SUM(J24:J29) -> 0
A23: FALSE | B23: FALSE | C23: FALSE | E23: SSp1 | F23: Minimize Site Disturbance | I23: Required | J23: Required | K23: =IF(J23>I23,"⚠","")
A24: 0 | B24: 0 | C24: 0 | E24: SSc1 | F24: Biodiverse Habitat | I24: 2 | J24: =SUM(A24:B24) -> 0 | K24: =IF(J24>I24,"⚠","")
A25: 0 | B25: 0 | C25: 0 | E25: SSc2 | F25: Accessible Outdoor Space | I25: 1 | J25: =SUM(A25:B25) -> 0 | K25: =IF(J25>I25,"⚠","")
A26: 0 | B26: 0 | C26: 0 | E26: SSc3 | F26: Rainwater Management | I26: 3 | J26: =SUM(A26:B26) -> 0 | K26: =IF(J26>I26,"⚠","")
A27: 0 | B27: 0 | C27: 0 | E27: SSc4 | F27: Enhanced Resilient Site Design | I27: 2 | J27: =SUM(A27:B27) -> 0 | K27: =IF(J27>I27,"⚠","")
A28: 0 | B28: 0 | C28: 0 | E28: SSc5 | F28: Heat Island Reduction | I28: 2 | J28: =SUM(A28:B28) -> 0 | K28: =IF(J28>I28,"⚠","")
A29: 0 | B29: 0 | C29: 0 | E29: SSc6 | F29: Light Pollution Reduction | I29: 1 | J29: =SUM(A29:B29) -> 0 | K29: =IF(J29>I29,"⚠","")
E31: Water Efficiency (WE) | I31: =SUM(I34:I35) -> 9 | J31: =SUM(J34:J35) -> 0
A32: FALSE | B32: FALSE | C32: FALSE | E32: WEp1 | F32: Water Metering and Reporting | I32: Required | J32: Required
A33: FALSE | B33: FALSE | C33: FALSE | E33: WEp2 | F33: Minimum Water Efficiency | I33: Required | J33: Required
A34: 0 | B34: 0 | C34: 0 | E34: WEc1 | F34: Water Metering and Leak Detection | I34: 1 | J34: =SUM(A34:B34) -> 0 | K34: =IF(J34>I34,"⚠","")
A35: 0 | B35: 0 | C35: 0 | E35: WEc2 | F35: Enhanced Water Efficiency | I35: 8 | J35: =SUM(A35:B35) -> 0 | K35: =IF(J35>I35,"⚠","")
E37: Energy and Atmosphere (EA) | I37: =SUM(I43:I49) -> 33 | J37: =SUM(J43:J49) -> 0
A38: FALSE | B38: FALSE | C38: FALSE | E38: EAp1 | F38: Operational Carbon Projection and Decarbonization Plan | I38: Required | J38: Required
A39: FALSE | B39: FALSE | C39: FALSE | E39: EAp2 | F39: Minimum Energy Efficiency | I39: Required | J39: Required
A40: FALSE | B40: FALSE | C40: FALSE | E40: EAp3 | F40: Fundamental Commissioning | I40: Required | J40: Required
A41: FALSE | B41: FALSE | C41: FALSE | E41: EAp4 | F41: Energy Metering and Reporting | I41: Required | J41: Required
A42: FALSE | B42: FALSE | C42: FALSE | E42: EAp5 | F42: Fundamental Refrigerant Management | I42: Required | J42: Required
A43: 0 | B43: 0 | C43: 0 | E43: EAc1 | F43: Electrification | I43: 5 | J43: =SUM(A43:B43) -> 0 | K43: =IF(J43>I43,"⚠","")
A44: 0 | B44: 0 | C44: 0 | E44: EAc2 | F44: Reduce Peak Thermal Loads | I44: 5 | J44: =SUM(A44:B44) -> 0 | K44: =IF(J44>I44,"⚠","")
A45: 0 | B45: 0 | C45: 0 | E45: EAc3 | F45: Enhanced Energy Efficiency | I45: 10 | J45: =SUM(A45:B45) -> 0 | K45: =IF(J45>I45,"⚠","")
A46: 0 | B46: 0 | C46: 0 | E46: EAc4 | F46: Renewable Energy | I46: 5 | J46: =SUM(A46:B46) -> 0 | K46: =IF(J46>I46,"⚠","")
A47: 0 | B47: 0 | C47: 0 | E47: EAc5 | F47: Enhanced Commissioning | I47: 4 | J47: =SUM(A47:B47) -> 0 | K47: =IF(J47>I47,"⚠","")
A48: 0 | B48: 0 | C48: 0 | E48: EAc6 | F48: Grid Interactive | I48: 2 | J48: =SUM(A48:B48) -> 0 | K48: =IF(J48>I48,"⚠","")
A49: 0 | B49: 0 | C49: 0 | E49: EAc7 | F49: Enhanced Refrigerant Management | I49: 2 | J49: =SUM(A49:B49) -> 0 | K49: =IF(J49>I49,"⚠","")
E51: Materials and Resources (MR) | I51: =SUM(I54:I58) -> 18 | J51: =SUM(J54:J58) -> 0
A52: FALSE | B52: FALSE | C52: FALSE | E52: MRp1 | F52: Planning for Zero Waste Operations | I52: Required | J52: Required
A53: FALSE | B53: FALSE | C53: FALSE | E53: MRp2 | F53: Quantify and Assess Embodied Carbon | I53: Required | J53: Required
A54: 0 | B54: 0 | C54: 0 | E54: MRc1 | F54: Building and Materials Reuse | I54: 3 | J54: =SUM(A54:B54) -> 0 | K54: =IF(J54>I54,"⚠","")
A55: 0 | B55: 0 | C55: 0 | E55: MRc2 | F55: Reduce Embodied Carbon | I55: 6 | J55: =SUM(A55:B55) -> 0 | K55: =IF(J55>I55,"⚠","")
A56: 0 | B56: 0 | C56: 0 | E56: MRc3 | F56: Low-Emitting Materials | I56: 2 | J56: =SUM(A56:B56) -> 0 | K56: =IF(J56>I56,"⚠","")
A57: 0 | B57: 0 | C57: 0 | E57: MRc4 | F57: Building Product Selection and Procurement | I57: 5 | J57: =SUM(A57:B57) -> 0 | K57: =IF(J57>I57,"⚠","")
A58: 0 | B58: 0 | C58: 0 | E58: MRc5 | F58: Construction and Demolition Waste Diversion | I58: 2 | J58: =SUM(A58:B58) -> 0 | K58: =IF(J58>I58,"⚠","")
E60: Indoor Environmental Quality (EQ) | I60: =SUM(I64:I68) -> 13 | J60: =SUM(J64:J68) -> 0
A61: FALSE | B61: FALSE | C61: FALSE | E61: EQp1 | F61: Construction Management | I61: Required | J61: Required
A62: FALSE | B62: FALSE | C62: FALSE | E62: EQp2 | F62: Fundamental Air Quality | I62: Required | J62: Required
A63: FALSE | B63: FALSE | C63: FALSE | E63: EQp3 | F63: No Smoking or Vehicle Idling | I63: Required | J63: Required
A64: 0 | B64: 0 | C64: 0 | E64: EQc1 | F64: Enhanced Air Quality | I64: 1 | J64: =SUM(A64:B64) -> 0 | K64: =IF(J64>I64,"⚠","")
A65: 0 | B65: 0 | C65: 0 | E65: EQc2 | F65: Occupant Experience | I65: 7 | J65: =SUM(A65:B65) -> 0 | K65: =IF(J65>I65,"⚠","")
A66: 0 | B66: 0 | C66: 0 | E66: EQc3 | F66: Accessibility and Inclusion | I66: 1 | J66: =SUM(A66:B66) -> 0 | K66: =IF(J66>I66,"⚠","")
A67: 0 | B67: 0 | C67: 0 | E67: EQc4 | F67: Resilient Spaces | I67: 2 | J67: =SUM(A67:B67) -> 0 | K67: =IF(J67>I67,"⚠","")
A68: 0 | B68: 0 | C68: 0 | E68: EQc5 | F68: Air Quality Testing and Monitoring | I68: 2 | J68: =SUM(A68:B68) -> 0 | K68: =IF(J68>I68,"⚠","")
E70: Project Priorities (PR) | I70: =SUM(I71:I81) -> 10 | J70: =SUM(J71:J81) -> 0
E71: PRc1 | F71: Project Priorities | I71: 9 | J71: =SUM(J72:J80) -> 0 | K71: =IF(J71>I71,"⚠","")
A72: 0 | B72: 0 | C72: 0 | F72: Project Priority 1: | H72: Insert credit name | J72: =SUM(A72:B72) -> 0
A73: 0 | B73: 0 | C73: 0 | F73: Project Priority 2: | H73: Insert credit name | J73: =SUM(A73:B73) -> 0
A74: 0 | B74: 0 | C74: 0 | F74: Project Priority 3: | H74: Insert credit name | J74: =SUM(A74:B74) -> 0
A75: 0 | B75: 0 | C75: 0 | F75: Project Priority 4: | H75: Insert credit name | J75: =SUM(A75:B75) -> 0
A76: 0 | B76: 0 | C76: 0 | F76: Project Priority 5: | H76: Insert credit name | J76: =SUM(A76:B76) -> 0
A77: 0 | B77: 0 | C77: 0 | F77: Project Priority 6: | H77: Insert credit name | J77: =SUM(A77:B77) -> 0
A78: 0 | B78: 0 | C78: 0 | F78: Project Priority 7: | H78: Insert credit name | J78: =SUM(A78:B78) -> 0
A79: 0 | B79: 0 | C79: 0 | F79: Project Priority 8: | H79: Insert credit name | J79: =SUM(A79:B79) -> 0
A80: 0 | B80: 0 | C80: 0 | F80: Project Priority 9: | H80: Insert credit name | J80: =SUM(A80:B80) -> 0
A81: 0 | B81: 0 | C81: 0 | E81: PRc2 | F81: LEED AP | I81: 1 | J81: =SUM(A81:B81) -> 0 | K81: =IF(J81>I81,"⚠","")
A83: =SUM(A13,A16:A20,A24:A29,A34:A35,A43:A49,A54:A58,A64:A68,A72:A81) -> 0 | B83: =SUM(B13,B16:B20,B24:B29,B34:B35,B43:B49,B54:B58,B64:B68,B72:B81) -> 0 | C83: =SUM(C13,C16:C20,C24:C29,C34:C35,C43:C49,C54:C58,C64:C68,C72:C81) -> 0 | E83: Total | I83: =SUM(I9,I15,I22,I31,I37,I51,I60,I70) -> 110 | J83: =SUM(J9,J15,J22,J31,J37,J51,J60,J70) -> 0

Sheet BD+C impact area view 
A2: LEED v5 for Building Design and Construction: New Construction
A3: Project scorecard
A4: Yes | B4: Maybe | C4: No | I4: Yes | J4: Maybe | K4: No | Q4: Yes | R4: Maybe | S4: No
A5: Decarbonization | I5: Quality of Life | Q5: Ecological Conservation and Restoration
A6: ='BD+C credit category view'!A12 -> FALSE | B6: ='BD+C credit category view'!B12 -> FALSE | C6: ='BD+C credit category view'!C12 -> FALSE | D6: IP Prereq | E6: ='BD+C credit category view'!E12 -> IPp3 | F6: Carbon Assessment | I6: ='BD+C credit category view'!A10 -> FALSE | J6: ='BD+C credit category view'!B10 -> FALSE | K6: ='BD+C credit category view'!C10 -> FALSE | L6: IP Prereq | M6: ='BD+C credit category view'!E10 -> IPp1 | N6: Climate Resilience Assessment | Q6: =A7 -> FALSE | R6: =B7 -> FALSE | S6: =C7 -> FALSE | T6: IP Credit | U6: ='BD+C credit category view'!E13 -> IPc1 | V6: Integrative Design Process | W6: =G7
A7: ='BD+C credit category view'!A13>0 -> FALSE | B7: ='BD+C credit category view'!B13>0 -> FALSE | C7: ='BD+C credit category view'!C13>0 -> FALSE | D7: IP Credit | E7: ='BD+C credit category view'!E13 -> IPc1 | F7: Integrative Design Process | G7: ='BD+C credit category view'!K13 | I7: ='BD+C credit category view'!A11 -> FALSE | J7: ='BD+C credit category view'!B11 -> FALSE | K7: ='BD+C credit category view'!C11 -> FALSE | L7: IP Prereq | M7: ='BD+C credit category view'!E11 -> IPp2 | N7: Human Impact Assessment | Q7: ='BD+C credit category view'!A16>0 -> FALSE | R7: ='BD+C credit category view'!B16>0 -> FALSE | S7: ='BD+C credit category view'!C16>0 -> FALSE | T7: LT Credit | U7: ='BD+C credit category view'!E16 -> LTc1 | V7: Sensitive Land Protection | W7: ='BD+C credit category view'!K16
A8: ='BD+C credit category view'!A18>0 -> FALSE | B8: ='BD+C credit category view'!B18>0 -> FALSE | C8: ='BD+C credit category view'!C18>0 -> FALSE | D8: LT Credit | E8: ='BD+C credit category view'!E18 -> LTc3 | F8: Compact and Connected Development | G8: ='BD+C credit category view'!K18 | I8: =A7 -> FALSE | J8: =B7 -> FALSE | K8: =C7 -> FALSE | L8: IP Credit | M8: ='BD+C credit category view'!E13 -> IPc1 | N8: Integrative Design Process | O8: =G7 | Q8: =A8 -> FALSE | R8: =B8 -> FALSE | S8: =C8 -> FALSE | T8: LT Credit | U8: ='BD+C credit category view'!E18 -> LTc3 | V8: Compact and Connected Development | W8: =G8
A9: ='BD+C credit category view'!A19>0 -> FALSE | B9: ='BD+C credit category view'!B19>0 -> FALSE | C9: ='BD+C credit category view'!C19>0 -> FALSE | D9: LT Credit | E9: ='BD+C credit category view'!E19 -> LTc4 | F9: Transportation Demand Management | G9: ='BD+C credit category view'!K19 | I9: ='BD+C credit category view'!A17>0 -> FALSE | J9: ='BD+C credit category view'!B17>0 -> FALSE | K9: ='BD+C credit category view'!C17>0 -> FALSE | L9: LT Credit | M9: ='BD+C credit category view'!E17 -> LTc2 | N9: Equitable Development | O9: ='BD+C credit category view'!K17 | Q9: ='BD+C credit category view'!A23 -> FALSE | R9: ='BD+C credit category view'!B23 -> FALSE | S9: ='BD+C credit category view'!C23 -> FALSE | T9: SS Prereq | U9: ='BD+C credit category view'!E23 -> SSp1 | V9: Minimized Site Disturbance
A10: ='BD+C credit category view'!A20>0 -> FALSE | B10: ='BD+C credit category view'!B20>0 -> FALSE | C10: ='BD+C credit category view'!C20>0 -> FALSE | D10: LT Credit | E10: ='BD+C credit category view'!E20 -> LTc5 | F10: Electric Vehicles | G10: ='BD+C credit category view'!K20 | I10: ='BD+C credit category view'!A18>0 -> FALSE | J10: ='BD+C credit category view'!B18>0 -> FALSE | K10: ='BD+C credit category view'!C18>0 -> FALSE | L10: LT Credit | M10: ='BD+C credit category view'!E18 -> LTc3 | N10: Compact and Connected Development | O10: ='BD+C credit category view'!K18 | Q10: ='BD+C credit category view'!A24>0 -> FALSE | R10: ='BD+C credit category view'!B24>0 -> FALSE | S10: ='BD+C credit category view'!C24>0 -> FALSE | T10: SS Credit | U10: ='BD+C credit category view'!E24 -> SSc1 | V10: Biodiverse Habitat | W10: ='BD+C credit category view'!K24
A11: ='BD+C credit category view'!A28>0 -> FALSE | B11: ='BD+C credit category view'!B28>0 -> FALSE | C11: ='BD+C credit category view'!C28>0 -> FALSE | D11: SS Credit | E11: ='BD+C credit category view'!E28 -> SSc5 | F11: Heat Island Reduction | G11: ='BD+C credit category view'!K28 | I11: ='BD+C credit category view'!A19>0 -> FALSE | J11: ='BD+C credit category view'!B19>0 -> FALSE | K11: ='BD+C credit category view'!C19>0 -> FALSE | L11: LT Credit | M11: ='BD+C credit category view'!E19 -> LTc4 | N11: Transportation Demand Management | O11: ='BD+C credit category view'!K19 | Q11: ='BD+C credit category view'!A25>0 -> FALSE | R11: ='BD+C credit category view'!B25>0 -> FALSE | S11: ='BD+C credit category view'!C25>0 -> FALSE | T11: SS Credit | U11: ='BD+C credit category view'!E25 -> SSc2 | V11: Accessible Outdoor Space | W11: ='BD+C credit category view'!K25
A12: ='BD+C credit category view'!A33 -> FALSE | B12: ='BD+C credit category view'!B33 -> FALSE | C12: ='BD+C credit category view'!C33 -> FALSE | D12: WE Prereq | E12: ='BD+C credit category view'!E33 -> WEp2 | F12: Minimum Water Efficiency | I12: ='BD+C credit category view'!A25>0 -> FALSE | J12: ='BD+C credit category view'!B25>0 -> FALSE | K12: ='BD+C credit category view'!C25>0 -> FALSE | L12: SS Credit | M12: ='BD+C credit category view'!E25 -> SSc2 | N12: Accessible Outdoor Space | O12: ='BD+C credit category view'!K25 | Q12: ='BD+C credit category view'!A26>0 -> FALSE | R12: ='BD+C credit category view'!B26>0 -> FALSE | S12: ='BD+C credit category view'!C26>0 -> FALSE | T12: SS Credit | U12: ='BD+C credit category view'!E26 -> SSc3 | V12: Rainwater Management | W12: ='BD+C credit category view'!K26
A13: ='BD+C credit category view'!A34>0 -> FALSE | B13: ='BD+C credit category view'!B34>0 -> FALSE | C13: ='BD+C credit category view'!C34>0 -> FALSE | D13: WE Credit | E13: ='BD+C credit category view'!E34 -> WEc1 | F13: Water Metering and Leak Detection | G13: ='BD+C credit category view'!K34 | I13: ='BD+C credit category view'!A27>0 -> FALSE | J13: ='BD+C credit category view'!B27>0 -> FALSE | K13: ='BD+C credit category view'!C27>0 -> FALSE | L13: SS Credit | M13: ='BD+C credit category view'!E27 -> SSc4 | N13: Enhanced Resilient Site Design | O13: ='BD+C credit category view'!K27 | Q13: ='BD+C credit category view'!A27>0 -> FALSE | R13: ='BD+C credit category view'!B27>0 -> FALSE | S13: ='BD+C credit category view'!C27>0 -> FALSE | T13: SS Credit | U13: ='BD+C credit category view'!E27 -> SSc4 | V13: Enhanced Resilient Site Design | W13: ='BD+C credit category view'!K27
A14: ='BD+C credit category view'!A35>0 -> FALSE | B14: ='BD+C credit category view'!B35>0 -> FALSE | C14: ='BD+C credit category view'!C35>0 -> FALSE | D14: WE Credit | E14: ='BD+C credit category view'!E35 -> WEc2 | F14: Enhanced Water Efficiency | G14: ='BD+C credit category view'!K35 | I14: ='BD+C credit category view'!A28>0 -> FALSE | J14: ='BD+C credit category view'!B28>0 -> FALSE | K14: ='BD+C credit category view'!C28>0 -> FALSE | L14: SS Credit | M14: ='BD+C credit category view'!E28 -> SSc5 | N14: Heat Island Reduction | O14: ='BD+C credit category view'!K28 | Q14: ='BD+C credit category view'!A28>0 -> FALSE | R14: ='BD+C credit category view'!B28>0 -> FALSE | S14: ='BD+C credit category view'!C28>0 -> FALSE | T14: SS Credit | U14: ='BD+C credit category view'!E28 -> SSc5 | V14: Heat Island Reduction | W14: ='BD+C credit category view'!K28
A15: ='BD+C credit category view'!A38 -> FALSE | B15: ='BD+C credit category view'!B38 -> FALSE | C15: ='BD+C credit category view'!C38 -> FALSE | D15: EA Prereq | E15: ='BD+C credit category view'!E38 -> EAp1 | F15: Operational Carbon Projection and Decarbonization Plan | I15: ='BD+C credit category view'!A34>0 -> FALSE | J15: ='BD+C credit category view'!B34>0 -> FALSE | K15: ='BD+C credit category view'!C34>0 -> FALSE | L15: WE Credit | M15: ='BD+C credit category view'!E34 -> WEc1 | N15: Water Metering and Leak Detection | O15: ='BD+C credit category view'!K34 | Q15: ='BD+C credit category view'!A29>0 -> FALSE | R15: ='BD+C credit category view'!B29>0 -> FALSE | S15: ='BD+C credit category view'!C29>0 -> FALSE | T15: SS Credit | U15: ='BD+C credit category view'!E29 -> SSc6 | V15: Light Pollution Reduction | W15: ='BD+C credit category view'!K29
A16: ='BD+C credit category view'!A39 -> FALSE | B16: ='BD+C credit category view'!B39 -> FALSE | C16: ='BD+C credit category view'!C39 -> FALSE | D16: EA Prereq | E16: ='BD+C credit category view'!E39 -> EAp2 | F16: Minimum Energy Efficiency | I16: ='BD+C credit category view'!A56>0 -> FALSE | J16: ='BD+C credit category view'!B56>0 -> FALSE | K16: ='BD+C credit category view'!C56>0 -> FALSE | L16: MR Credit | M16: ='BD+C credit category view'!E56 -> MRc3 | N16: Low Emitting Materials | O16: ='BD+C credit category view'!K56 | Q16: ='BD+C credit category view'!A32 -> FALSE | R16: ='BD+C credit category view'!B32 -> FALSE | S16: ='BD+C credit category view'!C32 -> FALSE | T16: WE Prereq | U16: ='BD+C credit category view'!E32 -> WEp1 | V16: Water Metering and Reporting
A17: ='BD+C credit category view'!A40 -> FALSE | B17: ='BD+C credit category view'!B40 -> FALSE | C17: ='BD+C credit category view'!C40 -> FALSE | D17: EA Prereq | E17: ='BD+C credit category view'!E40 -> EAp3 | F17: Fundamental Commissioning | I17: ='BD+C credit category view'!A57>0 -> FALSE | J17: ='BD+C credit category view'!B57>0 -> FALSE | K17: ='BD+C credit category view'!C57>0 -> FALSE | L17: MR Credit | M17: ='BD+C credit category view'!E57 -> MRc4 | N17: Building Product Selection and Procurement | O17: ='BD+C credit category view'!K57 | Q17: ='BD+C credit category view'!A33 -> FALSE | R17: ='BD+C credit category view'!B33 -> FALSE | S17: ='BD+C credit category view'!C33 -> FALSE | T17: WE Prereq | U17: ='BD+C credit category view'!E33 -> WEp2 | V17: Minimum Water Efficiency
A18: ='BD+C credit category view'!A41 -> FALSE | B18: ='BD+C credit category view'!B41 -> FALSE | C18: ='BD+C credit category view'!C41 -> FALSE | D18: EA Prereq | E18: ='BD+C credit category view'!E41 -> EAp4 | F18: Energy Metering and Reporting | I18: ='BD+C credit category view'!A61 -> FALSE | J18: ='BD+C credit category view'!B61 -> FALSE | K18: ='BD+C credit category view'!C61 -> FALSE | L18: EQ Prereq | M18: ='BD+C credit category view'!E61 -> EQp1 | N18: Construction Management | Q18: =A13 -> FALSE | R18: =B13 -> FALSE | S18: =C13 -> FALSE | T18: WE Credit | U18: ='BD+C credit category view'!E34 -> WEc1 | V18: Water Metering and Leak Detection | W18: =G13
A19: ='BD+C credit category view'!A42 -> FALSE | B19: ='BD+C credit category view'!B42 -> FALSE | C19: ='BD+C credit category view'!C42 -> FALSE | D19: EA Prereq | E19: ='BD+C credit category view'!E42 -> EAp5 | F19: Fundamental Refrigerant Management | I19: ='BD+C credit category view'!A62 -> FALSE | J19: ='BD+C credit category view'!B62 -> FALSE | K19: ='BD+C credit category view'!C62 -> FALSE | L19: EQ Prereq | M19: ='BD+C credit category view'!E62 -> EQp2 | N19: Fundamental Air Quality | Q19: =A14 -> FALSE | R19: =B14 -> FALSE | S19: =C14 -> FALSE | T19: WE Credit | U19: ='BD+C credit category view'!E35 -> WEc2 | V19: Enhanced Water Efficiency | W19: =G14
A20: ='BD+C credit category view'!A43>0 -> FALSE | B20: ='BD+C credit category view'!B43>0 -> FALSE | C20: ='BD+C credit category view'!C43>0 -> FALSE | D20: EA Credit | E20: ='BD+C credit category view'!E43 -> EAc1 | F20: Electrification | G20: ='BD+C credit category view'!K43 | I20: ='BD+C credit category view'!A63 -> FALSE | J20: ='BD+C credit category view'!B63 -> FALSE | K20: ='BD+C credit category view'!C63 -> FALSE | L20: EQ Prereq | M20: ='BD+C credit category view'!E63 -> EQp3 | N20: No Smoking or Vehicle Idling | Q20: =A27 -> FALSE | R20: =B27 -> FALSE | S20: =C27 -> FALSE | T20: MR Prereq | U20: ='BD+C credit category view'!E52 -> MRp1 | V20: Planning for Zero Waste Operations
A21: ='BD+C credit category view'!A44>0 -> FALSE | B21: ='BD+C credit category view'!B44>0 -> FALSE | C21: ='BD+C credit category view'!C44>0 -> FALSE | D21: EA Credit | E21: ='BD+C credit category view'!E44 -> EAc2 | F21: Reduce Peak Thermal Loads | G21: ='BD+C credit category view'!K44 | I21: ='BD+C credit category view'!A64>0 -> FALSE | J21: ='BD+C credit category view'!B64>0 -> FALSE | K21: ='BD+C credit category view'!C64>0 -> FALSE | L21: EQ Credit | M21: ='BD+C credit category view'!E64 -> EQc1 | N21: Enhanced Air Quality | O21: ='BD+C credit category view'!K64 | Q21: =A29 -> FALSE | R21: =B29 -> FALSE | S21: =C29 -> FALSE | T21: MR Credit | U21: ='BD+C credit category view'!E54 -> MRc1 | V21: Building and Materials Reuse | W21: =G29
A22: ='BD+C credit category view'!A45>0 -> FALSE | B22: ='BD+C credit category view'!B45>0 -> FALSE | C22: ='BD+C credit category view'!C45>0 -> FALSE | D22: EA Credit | E22: ='BD+C credit category view'!E45 -> EAc3 | F22: Enhanced Energy Efficiency | G22: ='BD+C credit category view'!K45 | I22: ='BD+C credit category view'!A65>0 -> FALSE | J22: ='BD+C credit category view'!B65>0 -> FALSE | K22: ='BD+C credit category view'!C65>0 -> FALSE | L22: EQ Credit | M22: ='BD+C credit category view'!E65 -> EQc2 | N22: Occupant Experience | O22: ='BD+C credit category view'!K65 | Q22: =A31 -> FALSE | R22: =B31 -> FALSE | S22: =C31 -> FALSE | T22: MR Credit | U22: ='BD+C credit category view'!E57 -> MRc4 | V22: Building Product Selection and Procurement | W22: =G31
A23: ='BD+C credit category view'!A46>0 -> FALSE | B23: ='BD+C credit category view'!B46>0 -> FALSE | C23: ='BD+C credit category view'!C46>0 -> FALSE | D23: EA Credit | E23: ='BD+C credit category view'!E46 -> EAc4 | F23: Renewable Energy | G23: ='BD+C credit category view'!K46 | I23: ='BD+C credit category view'!A66>0 -> FALSE | J23: ='BD+C credit category view'!B66>0 -> FALSE | K23: ='BD+C credit category view'!C66>0 -> FALSE | L23: EQ Credit | M23: ='BD+C credit category view'!E66 -> EQc3 | N23: Accessibility and Inclusion | O23: ='BD+C credit category view'!K66 | Q23: =A32 -> FALSE | R23: =B32 -> FALSE | S23: =C32 -> FALSE | T23: MR Credit | U23: ='BD+C credit category view'!E58 -> MRc5 | V23: Construction and Demolition Waste Diversion | W23: =G32
A24: ='BD+C credit category view'!A47>0 -> FALSE | B24: ='BD+C credit category view'!B47>0 -> FALSE | C24: ='BD+C credit category view'!C47>0 -> FALSE | D24: EA Credit | E24: ='BD+C credit category view'!E47 -> EAc5 | F24: Enhanced Commissioning | G24: ='BD+C credit category view'!K47 | I24: ='BD+C credit category view'!A67>0 -> FALSE | J24: ='BD+C credit category view'!B67>0 -> FALSE | K24: ='BD+C credit category view'!C67>0 -> FALSE | L24: EQ Credit | M24: ='BD+C credit category view'!E67 -> EQc4 | N24: Resilient Spaces | O24: ='BD+C credit category view'!K67 | Q24: ='BD+C credit category view'!A63 -> FALSE | R24: ='BD+C credit category view'!B63 -> FALSE | S24: ='BD+C credit category view'!C63 -> FALSE | T24: EQ Prereq | U24: ='BD+C credit category view'!E63 -> EQp3 | V24: No Smoking or Vehicle Idling
A25: ='BD+C credit category view'!A48>0 -> FALSE | B25: ='BD+C credit category view'!B48>0 -> FALSE | C25: ='BD+C credit category view'!C48>0 -> FALSE | D25: EA Credit | E25: ='BD+C credit category view'!E48 -> EAc6 | F25: Grid Interactive | G25: ='BD+C credit category view'!K48 | I25: ='BD+C credit category view'!A68>0 -> FALSE | J25: ='BD+C credit category view'!B68>0 -> FALSE | K25: ='BD+C credit category view'!C68>0 -> FALSE | L25: EQ Credit | M25: ='BD+C credit category view'!E68 -> EQc5 | N25: Air Quality Testing and Monitoring | O25: ='BD+C credit category view'!K68
A26: ='BD+C credit category view'!A49>0 -> FALSE | B26: ='BD+C credit category view'!B49>0 -> FALSE | C26: ='BD+C credit category view'!C49>0 -> FALSE | D26: EA Credit | E26: ='BD+C credit category view'!E49 -> EAc7 | F26: Enhanced Refrigerant Management | G26: ='BD+C credit category view'!K49
A27: ='BD+C credit category view'!A52 -> FALSE | B27: ='BD+C credit category view'!B52 -> FALSE | C27: ='BD+C credit category view'!C52 -> FALSE | D27: MR Prereq | E27: ='BD+C credit category view'!E52 -> MRp1 | F27: Planning for Zero Waste Operations
A28: ='BD+C credit category view'!A53 -> FALSE | B28: ='BD+C credit category view'!B53 -> FALSE | C28: ='BD+C credit category view'!C53 -> FALSE | D28: MR Prereq | E28: ='BD+C credit category view'!E53 -> MRp2 | F28: Quantify and Assess Embodied Carbon
A29: ='BD+C credit category view'!A54>0 -> FALSE | B29: ='BD+C credit category view'!B54>0 -> FALSE | C29: ='BD+C credit category view'!C54>0 -> FALSE | D29: MR Credit | E29: ='BD+C credit category view'!E54 -> MRc1 | F29: Building and Materials Reuse | G29: ='BD+C credit category view'!K54
A30: ='BD+C credit category view'!A55>0 -> FALSE | B30: ='BD+C credit category view'!B55>0 -> FALSE | C30: ='BD+C credit category view'!C55>0 -> FALSE | D30: MR Credit | E30: ='BD+C credit category view'!E55 -> MRc2 | F30: Reduce Embodied Carbon | G30: ='BD+C credit category view'!K55
A31: ='BD+C credit category view'!A57>0 -> FALSE | B31: ='BD+C credit category view'!B57>0 -> FALSE | C31: ='BD+C credit category view'!C57>0 -> FALSE | D31: MR Credit | E31: ='BD+C credit category view'!E57 -> MRc4 | F31: Building Product Selection and Procurement | G31: ='BD+C credit category view'!K57
A32: ='BD+C credit category view'!A58>0 -> FALSE | B32: ='BD+C credit category view'!B58>0 -> FALSE | C32: ='BD+C credit category view'!C58>0 -> FALSE | D32: MR Credit | E32: ='BD+C credit category view'!E58 -> MRc5 | F32: Construction and Demolition Waste Diversion | G32: ='BD+C credit category view'!K58

Sheet Analytics
A2: LEED v5 for Building Design and Construction: New Construction
A3: Project scorecard analytics

Sheet Background
A1: Data Validation
A2: Yes | J2: Yes | K2: ='BD+C credit category view'!M2 -> 0
A3: Maybe | J3: Maybe | K3: ='BD+C credit category view'!M3 -> 0
A4: No | J4: No | K4: ='BD+C credit category view'!M4 -> 0 | Q4: Decarbonization
J5: Blank | K5: =J19-K4-K3-K2 -> 110 | Q5: Yes | R5: Maybe | S5: No | T5: Blank
J6: Related Charts | Q6: =COUNTIF('BD+C impact area view '!A6:A32,"TRUE") -> 0 | R6: =COUNTIF('BD+C impact area view '!B6:B32,"TRUE") -> 0 | S6: =COUNTIF('BD+C impact area view '!C6:C32,"TRUE") -> 0 | T6: =COUNTA('BD+C impact area view '!E6:E32)-Q6-R6-S6 -> 27
J7: Total Anticipated Points Distribution
J8: Total Anticipated Points Distribution
Q9: Quality of Life
Q10: Yes | R10: Maybe | S10: No | T10: Blank
Q11: =COUNTIF('BD+C impact area view '!I6:I25,"TRUE") -> 0 | R11: =COUNTIF('BD+C impact area view '!J6:J25,"TRUE") -> 0 | S11: =COUNTIF('BD+C impact area view '!K6:K25,"TRUE") -> 0 | T11: =COUNTA('BD+C impact area view '!M6:M25)-Q11-R11-S11 -> 20
Q13: Ecological Conservation and Restoration
Q14: Yes | R14: Maybe | S14: No | T14: Blank
E15: Total Possible Points | F15: Total Anticipated Points | Q15: =COUNTIF('BD+C impact area view '!Q6:Q24,"TRUE") -> 0 | R15: =COUNTIF('BD+C impact area view '!R6:R24,"TRUE") -> 0 | S15: =COUNTIF('BD+C impact area view '!S6:S24,"TRUE") -> 0 | T15: =COUNTA('BD+C impact area view '!U6:U24)-Q15-R15-S15 -> 19
I16: Total Anticipated Points | J16: ='BD+C credit category view'!M6 -> 0 | K16: points | Q16: Related Charts
I17: Certified Project | J17: 40 | K17: points | Q17: Anticipated Decarbonization Credits
A18: Integrative Process, Planning and Assessments (IP) | E18: ='BD+C credit category view'!I9 -> 1 | F18: ='BD+C credit category view'!J9 -> 0 | I18: Platinum Project | J18: 80 | K18: points | Q18: Anticipated Quality of Life Credits
A19: Location and Transportation (LT) | E19: ='BD+C credit category view'!I15 -> 15 | F19: ='BD+C credit category view'!J15 -> 0 | I19: Total Possible Points | J19: ='BD+C credit category view'!M7 -> 110 | K19: points | Q19: Anticipated Ecological Conservation and Restoration Credits
A20: Sustainable Sites (SS) | E20: ='BD+C credit category view'!I22 -> 11 | F20: ='BD+C credit category view'!J22 -> 0 | I20: Related Charts
A21: Water Efficiency (WE) | E21: ='BD+C credit category view'!I31 -> 9 | F21: ='BD+C credit category view'!J31 -> 0 | I21: Total Anticipated Points versus LEED Certification Levels
A22: Energy and Atmosphere (EA) | E22: ='BD+C credit category view'!I37 -> 33 | F22: ='BD+C credit category view'!J37 -> 0
A23: Materials and Resources (MR) | E23: ='BD+C credit category view'!I51 -> 18 | F23: ='BD+C credit category view'!J51 -> 0
A24: Indoor Environmental Quality (EQ) | E24: ='BD+C credit category view'!I60 -> 13 | F24: ='BD+C credit category view'!J60 -> 0
A25: Project Priorities (PR) | E25: ='BD+C credit category view'!I70 -> 10 | F25: ='BD+C credit category view'!J70 -> 0
A26: Related Charts
A27: Total Possible Points by Credit Category
A28: Total Anticipated Points by Credit Category
